BEGIN:VCALENDAR
VERSION:2.0
PRODID:-//urwahl3000//gruene-barsbuettel.de//DE
CALSCALE:GREGORIAN
BEGIN:VEVENT
DTSTART:20261207T190000
DTEND:20261207T190000
LOCATION:tbd tbd
DTSTAMP:20261207T190000
SUMMARY:Weihnachtsfeier Grüne Barsbüttel
URL;VALUE=URI:https://gruene-barsbuettel.de/termin/weihnachtsfeier-gruene-barsbuettel/
DESCRIPTION:Unsere Weihnachtsfeier von Partei und Fraktion.
UID:20261207T190000-20261207T190000-20261207T190000
END:VEVENT
END:VCALENDAR