BEGIN:VCALENDAR
VERSION:2.0
PRODID:-//urwahl3000//gruene-barsbuettel.de//DE
CALSCALE:GREGORIAN
BEGIN:VEVENT
DTSTART:20260427T190000
DTEND:20260427T190000
LOCATION: 
DTSTAMP:20260427T190000
SUMMARY:Fraktionssitzung 27.04.2026
URL;VALUE=URI:https://gruene-barsbuettel.de/termin/fraktionssitzung-27-04-2026/
DESCRIPTION:Die Barsbütteler Fraktion von Bündnis 90 / Die Grünen trifft sich zur Fraktionssitzung in der Aula der Erich Kästner Gemeinschaftsschule.
UID:20260427T190000-20260427T190000-20260427T190000
END:VEVENT
BEGIN:VEVENT
DTSTART:20260504T190000
DTEND:20260504T190000
LOCATION:Bergredder 62a Barsbüttel
DTSTAMP:20260504T190000
SUMMARY:Grünschnack 04.05.2026
URL;VALUE=URI:https://gruene-barsbuettel.de/termin/gruenschnack-04-05-2026/
DESCRIPTION:Grüne Mitglieder*innen & Interessierte treffen sich zum Grünschnack am Mittwoch bei Angela Tsagkalidis im Bergredder 62a. Der Grünschnack ist offen für alle und freut sich über alle Besucher*innen und deren Themen und Anregungen. Für Snacks und Getränke ist gesorgt.
UID:20260504T190000-20260504T190000-20260504T190000
END:VEVENT
BEGIN:VEVENT
DTSTART:20260601T190000
DTEND:20260601T190000
LOCATION: 
DTSTAMP:20260601T190000
SUMMARY:Fraktionssitzung 01.06.2026
URL;VALUE=URI:https://gruene-barsbuettel.de/termin/fraktionssitzung-01-06-2026/
DESCRIPTION:Die Barsbütteler Fraktion von Bündnis 90 / Die Grünen trifft sich zur Fraktionssitzung in der Aula der Erich Kästner Gemeinschaftsschule.
UID:20260601T190000-20260601T190000-20260601T190000
END:VEVENT
BEGIN:VEVENT
DTSTART:20260608T190000
DTEND:20260608T190000
LOCATION: 
DTSTAMP:20260608T190000
SUMMARY:Fraktionssitzung 08.06.2026
URL;VALUE=URI:https://gruene-barsbuettel.de/termin/fraktionssitzung-08-06-2026/
DESCRIPTION:Die Barsbütteler Fraktion von Bündnis 90 / Die Grünen trifft sich zur Fraktionssitzung in der Aula der Erich Kästner Gemeinschaftsschule.
UID:20260608T190000-20260608T190000-20260608T190000
END:VEVENT
BEGIN:VEVENT
DTSTART:20260615T190000
DTEND:20260615T190000
LOCATION: 
DTSTAMP:20260615T190000
SUMMARY:Fraktionssitzung 15.06.2026
URL;VALUE=URI:https://gruene-barsbuettel.de/termin/fraktionssitzung-15-06-2026/
DESCRIPTION:Die Barsbütteler Fraktion von Bündnis 90 / Die Grünen trifft sich zur Fraktionssitzung in der Aula der Erich Kästner Gemeinschaftsschule.
UID:20260615T190000-20260615T190000-20260615T190000
END:VEVENT
BEGIN:VEVENT
DTSTART:20260629T190000
DTEND:20260629T190000
LOCATION: 
DTSTAMP:20260629T190000
SUMMARY:Fraktionssitzung 29.06.2026
URL;VALUE=URI:https://gruene-barsbuettel.de/termin/fraktionssitzung-29-06-2026/
DESCRIPTION:Die Barsbütteler Fraktion von Bündnis 90 / Die Grünen trifft sich zur Fraktionssitzung in der Aula der Erich Kästner Gemeinschaftsschule.
UID:20260629T190000-20260629T190000-20260629T190000
END:VEVENT
BEGIN:VEVENT
DTSTART:20260817T190000
DTEND:20260817T190000
LOCATION: 
DTSTAMP:20260817T190000
SUMMARY:Fraktionssitzung 17.08.2026
URL;VALUE=URI:https://gruene-barsbuettel.de/termin/fraktionssitzung-17-08-2026/
DESCRIPTION:Die Barsbütteler Fraktion von Bündnis 90 / Die Grünen trifft sich zur Fraktionssitzung in der Aula der Erich Kästner Gemeinschaftsschule.
UID:20260817T190000-20260817T190000-20260817T190000
END:VEVENT
BEGIN:VEVENT
DTSTART:20260824T190000
DTEND:20260824T190000
LOCATION:Bergredder 62a Barsbüttel
DTSTAMP:20260824T190000
SUMMARY:Grünschnack 24.08.2026
URL;VALUE=URI:https://gruene-barsbuettel.de/termin/gruenschnack-24-08-2026/
DESCRIPTION:Grüne Mitglieder*innen & Interessierte treffen sich zum Grünschnack am Mittwoch bei Angela Tsagkalidis im Bergredder 62a. Der Grünschnack ist offen für alle und freut sich über alle Besucher*innen und deren Themen und Anregungen. Für Snacks und Getränke ist gesorgt.
UID:20260824T190000-20260824T190000-20260824T190000
END:VEVENT
BEGIN:VEVENT
DTSTART:20260907T190000
DTEND:20260907T190000
LOCATION:Bergredder 62a Barsbüttel
DTSTAMP:20260907T190000
SUMMARY:Grünschnack 07.09.2026
URL;VALUE=URI:https://gruene-barsbuettel.de/termin/gruenschnack-07-09-2026/
DESCRIPTION:Grüne Mitglieder*innen & Interessierte treffen sich zum Grünschnack am Mittwoch bei Angela Tsagkalidis im Bergredder 62a. Der Grünschnack ist offen für alle und freut sich über alle Besucher*innen und deren Themen und Anregungen. Für Snacks und Getränke ist gesorgt.
UID:20260907T190000-20260907T190000-20260907T190000
END:VEVENT
BEGIN:VEVENT
DTSTART:20260914T190000
DTEND:20260914T190000
LOCATION: 
DTSTAMP:20260914T190000
SUMMARY:Fraktionssitzung 14.09.2026
URL;VALUE=URI:https://gruene-barsbuettel.de/termin/fraktionssitzung-14-09-2026/
DESCRIPTION:Die Barsbütteler Fraktion von Bündnis 90 / Die Grünen trifft sich zur Fraktionssitzung in der Aula der Erich Kästner Gemeinschaftsschule.
UID:20260914T190000-20260914T190000-20260914T190000
END:VEVENT
BEGIN:VEVENT
DTSTART:20260921T190000
DTEND:20260921T190000
LOCATION: 
DTSTAMP:20260921T190000
SUMMARY:Fraktionssitzung 21.09.2026
URL;VALUE=URI:https://gruene-barsbuettel.de/termin/fraktionssitzung-21-09-2026/
DESCRIPTION:Die Barsbütteler Fraktion von Bündnis 90 / Die Grünen trifft sich zur Fraktionssitzung in der Aula der Erich Kästner Gemeinschaftsschule.
UID:20260921T190000-20260921T190000-20260921T190000
END:VEVENT
BEGIN:VEVENT
DTSTART:20260928T190000
DTEND:20260928T190000
LOCATION: 
DTSTAMP:20260928T190000
SUMMARY:Fraktionssitzung 28.09.2026
URL;VALUE=URI:https://gruene-barsbuettel.de/termin/fraktionssitzung-28-09-2026/
DESCRIPTION:Die Barsbütteler Fraktion von Bündnis 90 / Die Grünen trifft sich zur Fraktionssitzung in der Aula der Erich Kästner Gemeinschaftsschule.
UID:20260928T190000-20260928T190000-20260928T190000
END:VEVENT
BEGIN:VEVENT
DTSTART:20261026T190000
DTEND:20261026T190000
LOCATION:Bergredder 62a Barsbüttel
DTSTAMP:20261026T190000
SUMMARY:Grünschnack 26.10.2026
URL;VALUE=URI:https://gruene-barsbuettel.de/termin/gruenschnack-26-10-2026/
DESCRIPTION:Grüne Mitglieder*innen & Interessierte treffen sich zum Grünschnack am Mittwoch bei Angela Tsagkalidis im Bergredder 62a. Der Grünschnack ist offen für alle und freut sich über alle Besucher*innen und deren Themen und Anregungen. Für Snacks und Getränke ist gesorgt.
UID:20261026T190000-20261026T190000-20261026T190000
END:VEVENT
BEGIN:VEVENT
DTSTART:20261102T190000
DTEND:20261102T190000
LOCATION: 
DTSTAMP:20261102T190000
SUMMARY:Fraktionssitzung 02.11.2026
URL;VALUE=URI:https://gruene-barsbuettel.de/termin/fraktionssitzung-02-11-2026/
DESCRIPTION:Die Barsbütteler Fraktion von Bündnis 90 / Die Grünen trifft sich zur Fraktionssitzung in der Aula der Erich Kästner Gemeinschaftsschule.
UID:20261102T190000-20261102T190000-20261102T190000
END:VEVENT
BEGIN:VEVENT
DTSTART:20261109T190000
DTEND:20261109T190000
LOCATION:Bergredder 62a Barsbüttel
DTSTAMP:20261109T190000
SUMMARY:Grünschnack 09.11.2026
URL;VALUE=URI:https://gruene-barsbuettel.de/termin/gruenschnack-09-11-2026/
DESCRIPTION:Grüne Mitglieder*innen & Interessierte treffen sich zum Grünschnack am Mittwoch bei Angela Tsagkalidis im Bergredder 62a. Der Grünschnack ist offen für alle und freut sich über alle Besucher*innen und deren Themen und Anregungen. Für Snacks und Getränke ist gesorgt.
UID:20261109T190000-20261109T190000-20261109T190000
END:VEVENT
BEGIN:VEVENT
DTSTART:20261116T190000
DTEND:20261116T190000
LOCATION: 
DTSTAMP:20261116T190000
SUMMARY:Fraktionssitzung 16.11.2026
URL;VALUE=URI:https://gruene-barsbuettel.de/termin/fraktionssitzung-16-11-2026/
DESCRIPTION:Die Barsbütteler Fraktion von Bündnis 90 / Die Grünen trifft sich zur Fraktionssitzung in der Aula der Erich Kästner Gemeinschaftsschule.
UID:20261116T190000-20261116T190000-20261116T190000
END:VEVENT
BEGIN:VEVENT
DTSTART:20261123T190000
DTEND:20261123T190000
LOCATION: 
DTSTAMP:20261123T190000
SUMMARY:Fraktionssitzung 23.11.2026
URL;VALUE=URI:https://gruene-barsbuettel.de/termin/fraktionssitzung-23-11-2026/
DESCRIPTION:Die Barsbütteler Fraktion von Bündnis 90 / Die Grünen trifft sich zur Fraktionssitzung in der Aula der Erich Kästner Gemeinschaftsschule.
UID:20261123T190000-20261123T190000-20261123T190000
END:VEVENT
BEGIN:VEVENT
DTSTART:20261130T190000
DTEND:20261130T190000
LOCATION: 
DTSTAMP:20261130T190000
SUMMARY:Fraktionssitzung 30.11.2026
URL;VALUE=URI:https://gruene-barsbuettel.de/termin/fraktionssitzung-30-11-2026/
DESCRIPTION:Die Barsbütteler Fraktion von Bündnis 90 / Die Grünen trifft sich zur Fraktionssitzung in der Aula der Erich Kästner Gemeinschaftsschule.
UID:20261130T190000-20261130T190000-20261130T190000
END:VEVENT
BEGIN:VEVENT
DTSTART:20261207T190000
DTEND:20261207T190000
LOCATION:tbd tbd
DTSTAMP:20261207T190000
SUMMARY:Weihnachtsfeier Grüne Barsbüttel
URL;VALUE=URI:https://gruene-barsbuettel.de/termin/weihnachtsfeier-gruene-barsbuettel/
DESCRIPTION:Unsere Weihnachtsfeier von Partei und Fraktion.
UID:20261207T190000-20261207T190000-20261207T190000
END:VEVENT
BEGIN:VEVENT
DTSTART:20261214T190000
DTEND:20261214T190000
LOCATION: 
DTSTAMP:20261214T190000
SUMMARY:Fraktionssitzung 14.12.2026
URL;VALUE=URI:https://gruene-barsbuettel.de/termin/fraktionssitzung-14-12-2026/
DESCRIPTION:Die Barsbütteler Fraktion von Bündnis 90 / Die Grünen trifft sich zur Fraktionssitzung in der Aula der Erich Kästner Gemeinschaftsschule.
UID:20261214T190000-20261214T190000-20261214T190000
END:VEVENT
END:VCALENDAR